BEGIN:VCALENDAR
VERSION:2.0
PRODID:-//Storefjell Resort Hotel - ECPv6.15.20//NONSGML v1.0//EN
CALSCALE:GREGORIAN
METHOD:PUBLISH
X-WR-CALNAME:Storefjell Resort Hotel
X-ORIGINAL-URL:https://storefjell.no
X-WR-CALDESC:Arrangement for Storefjell Resort Hotel
REFRESH-INTERVAL;VALUE=DURATION:PT1H
X-Robots-Tag:noindex
X-PUBLISHED-TTL:PT1H
BEGIN:VTIMEZONE
TZID:Europe/Oslo
BEGIN:DAYLIGHT
TZOFFSETFROM:+0100
TZOFFSETTO:+0200
TZNAME:CEST
DTSTART:20240331T010000
END:DAYLIGHT
BEGIN:STANDARD
TZOFFSETFROM:+0200
TZOFFSETTO:+0100
TZNAME:CET
DTSTART:20241027T010000
END:STANDARD
BEGIN:DAYLIGHT
TZOFFSETFROM:+0100
TZOFFSETTO:+0200
TZNAME:CEST
DTSTART:20250330T010000
END:DAYLIGHT
BEGIN:STANDARD
TZOFFSETFROM:+0200
TZOFFSETTO:+0100
TZNAME:CET
DTSTART:20251026T010000
END:STANDARD
BEGIN:DAYLIGHT
TZOFFSETFROM:+0100
TZOFFSETTO:+0200
TZNAME:CEST
DTSTART:20260329T010000
END:DAYLIGHT
BEGIN:STANDARD
TZOFFSETFROM:+0200
TZOFFSETTO:+0100
TZNAME:CET
DTSTART:20261025T010000
END:STANDARD
END:VTIMEZONE
BEGIN:VEVENT
DTSTART;TZID=Europe/Oslo:20251107T180000
DTEND;TZID=Europe/Oslo:20251109T120000
DTSTAMP:20260420T142535
CREATED:20241027T020346Z
LAST-MODIFIED:20250904T075831Z
UID:23418597-1762538400-1762689600@storefjell.no
SUMMARY:Julebordshelg og danseband
DESCRIPTION:Velkommen til en juletradisjon på Storefjell Resort!\nTa med kollegaene\, venner eller familien og opplev den magiske julestemningen på Storefjell Resort. Stedet er pyntet med vakker juledekor som setter atmosfæren for en god opplevelse. \nVåre julebord er kjent for sin rike middagsbuffet hvor våre kokker jobber iherdig for å skape den beste julematen i tråd med tradisjonene. Saftig ribbe\, mørt pinnekjøtt og himmelsk riskrem kan nytes sammen med en majestetisk utsikt! \nHvert år inviterer vi inn kjente og kjære artister og band for å sette prikken over i’en på feiringen. Utover kvelden spiller dyktige pianister opp i pianobaren og sørger for allsang og sang ut i de sene nattetimer. Vi inviterer deg til å bli med på festen! \nDette kan vi glede med helgen 7.-9. november: \n\nFredag og lørdag 21.30-01.30   Ingemars spiller til dans   \nPianobar          Tom Erik Løvrak\nDansesalen     Live musikk\n\nVelkommen!
URL:https://storefjell.no/arrangement/julebordhelg/
CATEGORIES:dansegalla,Julebord
ATTACH;FMTTYPE=image/jpeg:https://storefjell.no/wp-content/uploads/2024/10/IMG_1760-scaled-1.jpg
END:VEVENT
BEGIN:VEVENT
DTSTART;TZID=Europe/Oslo:20251114T180000
DTEND;TZID=Europe/Oslo:20251116T120000
DTSTAMP:20260420T142535
CREATED:20241027T020747Z
LAST-MODIFIED:20250925T083219Z
UID:23418599-1763143200-1763294400@storefjell.no
SUMMARY:Julebordshelg med konsert
DESCRIPTION:Velkommen til en juletradisjon på Storefjell Resort!\nTa med kollegaene\, venner eller familien og opplev den magiske julestemningen på Storefjell Resort. Stedet er pyntet med vakker juledekor som setter atmosfæren for en god opplevelse. \nVåre julebord er kjent for sin rike middagsbuffet hvor våre kokker jobber iherdig for å skape den beste julematen i tråd med tradisjonene. Saftig ribbe\, mørt pinnekjøtt og himmelsk riskrem kan nytes sammen med en majestetisk utsikt! \nHvert år inviterer vi inn kjente og kjære artister og band for å sette prikken over i’en på feiringen. Utover kvelden spiller dyktige pianister opp i pianobaren og sørger for allsang og sang ut i de sene nattetimer. Vi inviterer deg til å bli med på festen! \nDette kan vi glede med helgen 14.-16. november: \nFredag 22.00-23.30    Staut konsert \nFredag og lørdag: \n\nPianobar med Glenn Maine Henriksen \nDansesalen med live musikk\nÅpen lavvo kl. 16 – 18 med hit music party bingo \n DJ i nattklubben: Iver Gjestemoen Kaiko\n\nVelkommen!
URL:https://storefjell.no/arrangement/julebordhelg-med-konsert/
CATEGORIES:Julebord,konsert
ATTACH;FMTTYPE=image/jpeg:https://storefjell.no/wp-content/uploads/2024/10/4-2-1.jpg
END:VEVENT
BEGIN:VEVENT
DTSTART;TZID=Europe/Oslo:20251121T180000
DTEND;TZID=Europe/Oslo:20251123T120000
DTSTAMP:20260420T142535
CREATED:20241027T045713Z
LAST-MODIFIED:20251106T090110Z
UID:23418601-1763748000-1763899200@storefjell.no
SUMMARY:Julebordshelg med konsert
DESCRIPTION:Velkommen til en juletradisjon på Storefjell Resort!\nTa med kollegaene\, venner eller familien og opplev den magiske julestemningen på Storefjell Resort. Stedet er pyntet med vakker juledekor som setter atmosfæren for en god opplevelse. \nVåre julebord er kjent for sin rike middagsbuffet hvor våre kokker jobber iherdig for å skape den beste julematen i tråd med tradisjonene. Saftig ribbe\, mørt pinnekjøtt og himmelsk riskrem kan nytes sammen med en majestetisk utsikt! \nHvert år inviterer vi inn kjente og kjære artister og band for å sette prikken over i’en på feiringen. Utover kvelden spiller dyktige pianister opp i pianobaren og sørger for allsang og sang ut i de sene nattetimer. Vi inviterer deg til å bli med på festen! \nDette kan vi glede med helgen 21.-23. november: \nFredag kl. 22.00-23.30:    Vassendgutane konsert\nLørdag kl. 22.00-23.30:    Rune Rudberg Band \nFredag og lørdag: \n\nPianobar med Hans Christian Digermul\nDansesalen med live musikk\nÅpen lavvo kl. 16 – 18 med hit music party bingo \n DJ i nattklubben\n\nVelkommen!
URL:https://storefjell.no/arrangement/julebordhelg-med-konsert-2/
CATEGORIES:Julebord,konsert
ATTACH;FMTTYPE=image/jpeg:https://storefjell.no/wp-content/uploads/2024/10/Storefjell-167-scaled-1.jpg
END:VEVENT
BEGIN:VEVENT
DTSTART;TZID=Europe/Oslo:20251128T180000
DTEND;TZID=Europe/Oslo:20251130T120000
DTSTAMP:20260420T142535
CREATED:20241027T050224Z
LAST-MODIFIED:20250925T082901Z
UID:23418604-1764352800-1764504000@storefjell.no
SUMMARY:Julebordshelg med konsert
DESCRIPTION:Velkommen til en juletradisjon på Storefjell Resort!\nTa med kollegaene\, venner eller familien og opplev den magiske julestemningen på Storefjell Resort. Stedet er pyntet med vakker juledekor som setter atmosfæren for en god opplevelse. \nVåre julebord er kjent for sin rike middagsbuffet hvor våre kokker jobber iherdig for å skape den beste julematen i tråd med tradisjonene. Saftig ribbe\, mørt pinnekjøtt og himmelsk riskrem kan nytes sammen med en majestetisk utsikt! \nHvert år inviterer vi inn kjente og kjære artister og band for å sette prikken over i’en på feiringen. Utover kvelden spiller dyktige pianister opp i pianobaren og sørger for allsang og sang ut i de sene nattetimer. Vi inviterer deg til å bli med på festen! \nDette kan vi glede med helgen 28.til 30.november: \nFredag 22.00-23.30      Rotlaus konsert \nFredag og lørdag: \n\nPianobar med Arne Gull\nDansesalen med live musikk \nÅpen lavvo kl. 16 – 18 med hit music party bingo \n DJ i nattklubben: Iver Gjestemoen Kaiko\n\nVelkommen!
URL:https://storefjell.no/arrangement/julebordhelg-med-konsert-3/
CATEGORIES:Julebord,konsert
ATTACH;FMTTYPE=image/jpeg:https://storefjell.no/wp-content/uploads/2024/10/4B2A7556.jpg
END:VEVENT
END:VCALENDAR