BEGIN:VCALENDAR
VERSION:2.0
PRODID:-//Storefjell Resort Hotel - ECPv6.15.20//NONSGML v1.0//EN
CALSCALE:GREGORIAN
METHOD:PUBLISH
X-ORIGINAL-URL:https://storefjell.no
X-WR-CALDESC:Arrangement for Storefjell Resort Hotel
REFRESH-INTERVAL;VALUE=DURATION:PT1H
X-Robots-Tag:noindex
X-PUBLISHED-TTL:PT1H
BEGIN:VTIMEZONE
TZID:Europe/Oslo
BEGIN:DAYLIGHT
TZOFFSETFROM:+0100
TZOFFSETTO:+0200
TZNAME:CEST
DTSTART:20250330T010000
END:DAYLIGHT
BEGIN:STANDARD
TZOFFSETFROM:+0200
TZOFFSETTO:+0100
TZNAME:CET
DTSTART:20251026T010000
END:STANDARD
BEGIN:DAYLIGHT
TZOFFSETFROM:+0100
TZOFFSETTO:+0200
TZNAME:CEST
DTSTART:20260329T010000
END:DAYLIGHT
BEGIN:STANDARD
TZOFFSETFROM:+0200
TZOFFSETTO:+0100
TZNAME:CET
DTSTART:20261025T010000
END:STANDARD
BEGIN:DAYLIGHT
TZOFFSETFROM:+0100
TZOFFSETTO:+0200
TZNAME:CEST
DTSTART:20270328T010000
END:DAYLIGHT
BEGIN:STANDARD
TZOFFSETFROM:+0200
TZOFFSETTO:+0100
TZNAME:CET
DTSTART:20271031T010000
END:STANDARD
END:VTIMEZONE
BEGIN:VEVENT
DTSTART;TZID=Europe/Oslo:20260216T080000
DTEND;TZID=Europe/Oslo:20260301T170000
DTSTAMP:20260422T123752
CREATED:20240204T164011Z
LAST-MODIFIED:20251021T121516Z
UID:23418239-1771228800-1772384400@storefjell.no
SUMMARY:Vinterferie uke 8 og 9
DESCRIPTION:Vi legger alt til rette for noen gode vinterferieuker\, for små og store. Hos oss kan du parkere bilen når du kommer og ha gangavstand til fine skiløyper\, skiheis og nydelig høyfjellsterreng 1001 m.o.h.\n  \n\n\nLegger du vinterferien til Storefjell kan du bl.a. forvente dette:\n\n\n\n\n\n\n\n\n\n\n– Milevis med fine langrennsløyper i nydelig høyfjellsterreng\, (se skisporet.no)\n\n\n– Ski- og Akesenter med 3 heiser\, 8 nedfarter\, egen barnebakke og egen kjelkebakke ( vær/føre forbehold)\n– 30% rabatt på heiskort til hotellets boende gjester\n– Skiheisen er åpen hver dag i uke 7\,8 og 9\, kl 10.00-16.00  (se fnugg.no)\n– Ski in. ski out \n– Livemusikk\n– Lekeland med hoppeslott og mange andre aktiviteter for barna\n– Shuffleboard\, bordtennis\, biljard\n– Barneklubb\n– Stor badeavdeling med vannsklie\, boblebad og eget barnebasseng\n– Innholdsrik lunsj- og middagsbuffet med hjemmelaget mat.\n– A’la carte- og smørbrødmeny\, pizzameny\n\n\nSe priser på hotellrom og leiligheter\, og bestill HER;\n\n\n\n\nFor spørsmål\, ring +47 320 78 000 eller storefjell@storefjell.no\n\n\n  \nVELKOMMEN!
URL:https://storefjell.no/arrangement/vinterferie-uke-8-og-9/
LOCATION:Storefjell Resort\, Einarsetvegen 401\, Gol\, 3550\, Norge
CATEGORIES:vinterferie
ATTACH;FMTTYPE=image/jpeg:https://storefjell.no/wp-content/uploads/2023/09/4B2A3382-scaled.jpg
END:VEVENT
BEGIN:VEVENT
DTSTART;TZID=Europe/Oslo:20260328T080000
DTEND;TZID=Europe/Oslo:20260406T170000
DTSTAMP:20260422T123752
CREATED:20240302T144632Z
LAST-MODIFIED:20260326T111747Z
UID:23418323-1774684800-1775494800@storefjell.no
SUMMARY:Påskeferie 1001 m.o.h.
DESCRIPTION:Med kort gangavstand til skiheis\, skiløyper og fantastisk høyfjellsterreng\, er Storefjell det ideelle stedet for å sikre påskestemningen. \nVi har skreddersydd et rikt aktivitets- og underholdningsprogram som dekker alle påskedagene\, slik at du kan lene deg tilbake og kjenne at du er på ferie. For de yngste gjestene arrangerer vi spennende barneklubbaktiviteter\, lekeland\, trylleshow\, ungdomsdisko\, barneshow\, skirenn og akekonkurranser. Dette skaper en uforglemmelig og morsom opplevelse for barna. \nSe påskeprogrammet her:\nPåsken del 1: 27.3-31.3\nPåsken del 2: 1.4-6.4 \nVi byr på musikalske opplevelser med konserter\, pianobar\, dansemusikk og enkelte dager trubadur ved skiheisområdet. Vi legger vekt på å skape en atmosfære fylt med både avslapning og underholdning\, slik at du kan nyte hvert øyeblikk av din påskeferie hos oss. \n\n\nAlle boende gjester får 30% rabatt på heiskort i Storefjell Skisenter. \n  \nSe priser og bestill opphold her.
URL:https://storefjell.no/arrangement/paskeferie-1001-m-o-h/
LOCATION:Storefjell Resort\, Einarsetvegen 401\, Gol\, 3550\, Norge
CATEGORIES:Påske
ATTACH;FMTTYPE=image/jpeg:https://storefjell.no/wp-content/uploads/2023/11/IMG_0020-scaled.jpg
END:VEVENT
END:VCALENDAR