BEGIN:VCALENDAR
VERSION:2.0
PRODID:-//Storefjell Resort Hotel - ECPv6.15.20//NONSGML v1.0//EN
CALSCALE:GREGORIAN
METHOD:PUBLISH
X-ORIGINAL-URL:https://storefjell.no
X-WR-CALDESC:Arrangement for Storefjell Resort Hotel
REFRESH-INTERVAL;VALUE=DURATION:PT1H
X-Robots-Tag:noindex
X-PUBLISHED-TTL:PT1H
BEGIN:VTIMEZONE
TZID:Europe/Oslo
BEGIN:DAYLIGHT
TZOFFSETFROM:+0100
TZOFFSETTO:+0200
TZNAME:CEST
DTSTART:20250330T010000
END:DAYLIGHT
BEGIN:STANDARD
TZOFFSETFROM:+0200
TZOFFSETTO:+0100
TZNAME:CET
DTSTART:20251026T010000
END:STANDARD
BEGIN:DAYLIGHT
TZOFFSETFROM:+0100
TZOFFSETTO:+0200
TZNAME:CEST
DTSTART:20260329T010000
END:DAYLIGHT
BEGIN:STANDARD
TZOFFSETFROM:+0200
TZOFFSETTO:+0100
TZNAME:CET
DTSTART:20261025T010000
END:STANDARD
BEGIN:DAYLIGHT
TZOFFSETFROM:+0100
TZOFFSETTO:+0200
TZNAME:CEST
DTSTART:20270328T010000
END:DAYLIGHT
BEGIN:STANDARD
TZOFFSETFROM:+0200
TZOFFSETTO:+0100
TZNAME:CET
DTSTART:20271031T010000
END:STANDARD
END:VTIMEZONE
BEGIN:VEVENT
DTSTART;TZID=Europe/Oslo:20260925T213000
DTEND;TZID=Europe/Oslo:20260926T013000
DTSTAMP:20260424T144552
CREATED:20260407T080804Z
LAST-MODIFIED:20260407T111513Z
UID:23418114-1790371800-1790386200@storefjell.no
SUMMARY:Danseweeekend med Donnez
DESCRIPTION:Donnez er et danseband fra Perstorp i Skåne. Bandet ble stiftet i 2000 av Donald Laitila og har siden spilt dansevennlig musikk. I dag har Donnez konserter rundt om i Sverige og satser på et bredt og tidsriktig repertoar som fenger danse publikumet. Donnez orkester har som ambisjon å alltid levere best mulig musikkopplevelse til sitt publikum. \nDonnez er i dag ett danseband på fremmarsj.\nDeres komplette låter og scenetilværelse gjør dem til et populært valg på mange danse tilstelninger rundt om i Sverige. \n\n\nFredag 25. september 2026\nStorefjell Resort Hotel\, Golsfjellet\nFra kl. 21.30 – 01.30\nAldersgrense 20 år\nPent antrekk\nBillettpris NOK\nBillettpris kr 450\,- pr kveld (ev kr 800\,- for fredag+lørdag)\nBillettbestilling for ikke-boende gjester på e-post til resepsjon@storefjell.no eller telefon 3207 8000\nBillettbestilling for boende gjester gjøres sammen med romreservasjon\n\n\n\nSe priser og book ditt opphold og billetter her;
URL:https://storefjell.no/arrangement/donnez/
LOCATION:Storefjell Resort\, Einarsetvegen 401\, Gol\, 3550\, Norge
ATTACH;FMTTYPE=image/jpeg:https://storefjell.no/wp-content/uploads/2023/12/Donnez-2024-1-scaled.jpg
END:VEVENT
BEGIN:VEVENT
DTSTART;TZID=Europe/Oslo:20260926T213000
DTEND;TZID=Europe/Oslo:20260927T013000
DTSTAMP:20260424T144552
CREATED:20260407T092021Z
LAST-MODIFIED:20260407T111433Z
UID:23419076-1790458200-1790472600@storefjell.no
SUMMARY:Danseweekend med Donnez
DESCRIPTION:Donnez er et danseband fra Perstorp i Skåne. Bandet ble stiftet i 2000 av Donald Laitila og har siden spilt dansevennlig musikk. I dag har Donnez konserter rundt om i Sverige og satser på et bredt og tidsriktig repertoar som fenger danse publikumet. Donnez orkester har som ambisjon å alltid levere best mulig musikkopplevelse til sitt publikum. \nDonnez er i dag ett danseband på fremmarsj.\nDeres komplette låter og scenetilværelse gjør dem til et populært valg på mange danse tilstelninger rundt om i Sverige. \n\n\nLørdag 26. september 2026\nStorefjell Resort Hotel\, Golsfjellet\nFra kl. 21.30 – 01.30\nAldersgrense 20 år\nPent antrekk\nBillettpris NOK\nBillettpris kr 450\,- pr kveld (ev kr 800\,- for fredag+lørdag)\nBillettbestilling for ikke-boende gjester på e-post til resepsjon@storefjell.no eller telefon 3207 8000\nBillettbestilling for boende gjester gjøres sammen med romreservasjon\n\n\n\nSe priser og book ditt opphold og billetter her;
URL:https://storefjell.no/arrangement/danseweekend-med-donnez/
LOCATION:Storefjell Resort Hotel\, Einarsetvegen 401\, Gol\, 3550\, Norway
ATTACH;FMTTYPE=image/jpeg:https://storefjell.no/wp-content/uploads/2026/04/Donnez-2024-1-scaled-1.jpg
END:VEVENT
END:VCALENDAR