BEGIN:VCALENDAR
VERSION:2.0
PRODID:-//Storefjell Resort Hotel - ECPv6.15.20//NONSGML v1.0//EN
CALSCALE:GREGORIAN
METHOD:PUBLISH
X-ORIGINAL-URL:https://storefjell.no
X-WR-CALDESC:Arrangement for Storefjell Resort Hotel
REFRESH-INTERVAL;VALUE=DURATION:PT1H
X-Robots-Tag:noindex
X-PUBLISHED-TTL:PT1H
BEGIN:VTIMEZONE
TZID:Europe/Oslo
BEGIN:DAYLIGHT
TZOFFSETFROM:+0100
TZOFFSETTO:+0200
TZNAME:CEST
DTSTART:20240331T010000
END:DAYLIGHT
BEGIN:STANDARD
TZOFFSETFROM:+0200
TZOFFSETTO:+0100
TZNAME:CET
DTSTART:20241027T010000
END:STANDARD
BEGIN:DAYLIGHT
TZOFFSETFROM:+0100
TZOFFSETTO:+0200
TZNAME:CEST
DTSTART:20250330T010000
END:DAYLIGHT
BEGIN:STANDARD
TZOFFSETFROM:+0200
TZOFFSETTO:+0100
TZNAME:CET
DTSTART:20251026T010000
END:STANDARD
BEGIN:DAYLIGHT
TZOFFSETFROM:+0100
TZOFFSETTO:+0200
TZNAME:CEST
DTSTART:20260329T010000
END:DAYLIGHT
BEGIN:STANDARD
TZOFFSETFROM:+0200
TZOFFSETTO:+0100
TZNAME:CET
DTSTART:20261025T010000
END:STANDARD
END:VTIMEZONE
BEGIN:VEVENT
DTSTART;TZID=Europe/Oslo:20251031T150000
DTEND;TZID=Europe/Oslo:20251102T130000
DTSTAMP:20260422T173601
CREATED:20240526T164231Z
LAST-MODIFIED:20251027T142238Z
UID:23418389-1761922800-1762088400@storefjell.no
SUMMARY:Rakfiskweekend/Julebordsweekend
DESCRIPTION:Tradisjonen tro byr vi på rakfiskweekend- og årets første julebord\, 31 oktober- 2 november 2025.\nDenne helgen arrangeres også årets Rakfiskfestival på Fagernes. \nStorefjell Resort er stolte av å være festivalens offisielle samarbeidspartner!Vi tilbyr som festivalens samarbeidspartner når det gjelder overnatting opphold i hotellrom eller leiligheter rett ved siden av hotellet.Lørdag byr vi på årets første julebord med egen rakfiskavdeling\, der alle rakfiskprodusentene fra Valdres\, og noen fra Hallingdal\, er representert. \nDu kan lese årets Rakfiskavis her\, med mye informasjon om program og artister for Rakfiskfestivalen;Her finner du også ett innslag fra Storefjell\, med brødrene Andreas\, Simen og Fredrik Nibstad. \nRakfiskprodusentene fra Valdres er de eneste i Norge som har oppnådd både spesialitetsmerket og beskyttet geografisk betegnelse på rakfisken.Alle oppdretterne foredler sin egen fisk\, men samarbeider om felles kvalitetskriterier som blant annet kort transportvei\, ingen bruk av tilsetningsstoffer og friskt og oksygenrikt fjellvann.Under festivalen finner du rakfiskprodusentene ved siden av hverandre helt i starten på rakfiskløypa.Det er de samme produsentene som konkurrerer om å ha årets beste rakfisk. En sammensatt fagjury kårer denne i rakfiskteltet lørdag under festivalen. \nProdusentene er;-Noraker Gard-Hande Gård-Haadem Fisk-Røn Gard-Wangensteen-Lofoss Fisk-Trøsvik Gård \nVil du som gjest på Storefjell ta en dagsutflukt til Rakfiskfestivalen\, kan du bestille buss transport til Fagernes lørdag 1/11 sammen med oppholdet;– Avreise fra Storefjell kl. 10.00– Retur fra Fagernes\, kl 15.00/ kl 16.00Kr 375\,- pr person t/r\, (må bestilles på forhånd\, forbeholdt boende gjester i hotellrom/leiligheter) \nVi anbefaler å kjøpe dagpass lørdag i resepsjonen på Storefjell før avreise\,kr 350\,- som inkluderer inngang i lavvoen\, smaksprøve og stortelt. \n \nLørdag kveld serverer vi årets første julebord\, med stor rakfiskavdeling\, der alle rakfiskprodusentene som er representert på Rakfiskfestivalen er med.Fiskene blir presentert umerket\, og alle gjester som ønsker kan være med å stemme fram vår rakfiskfavoritt.1-2-3 plass blir kunngjort etter middagen\, og alle som leverer stemmeseddel blir med i trekningen om et fritt opphold neste års rakfiskweekend.Konfransier Ove Thorshaug vil lose oss igjennom middagen og fortelle om rakfisktradisjonen\, og helt sikkert noen gode historier i tillegg. \nHotellet har live musikk og pianoentertainer fredag og lørdag. \nPianobaren   – John Rose         Dansesalen  –  xxx (navn kommer) \nPriser på hotellrom og leiligheter\, og bestilling av opphold her; \nOm du ikke bor hos oss men vil bestille rakfisk/julebord lørdag kveld\, ring 3207 8000 eller storefjell@storefjell.noRakfisk/julebord for ikke boende koster kr 845\,- pr person.
URL:https://storefjell.no/arrangement/rakfiskweekend/
LOCATION:Storefjell Resort\, Einarsetvegen 401\, Gol\, 3550\, Norge
ATTACH;FMTTYPE=image/jpeg:https://storefjell.no/wp-content/uploads/2024/05/4B2A7571-1.jpg
END:VEVENT
END:VCALENDAR