BEGIN:VCALENDAR
VERSION:2.0
PRODID:-//Storefjell Resort Hotel - ECPv6.15.20//NONSGML v1.0//EN
CALSCALE:GREGORIAN
METHOD:PUBLISH
X-ORIGINAL-URL:https://storefjell.no
X-WR-CALDESC:Arrangement for Storefjell Resort Hotel
REFRESH-INTERVAL;VALUE=DURATION:PT1H
X-Robots-Tag:noindex
X-PUBLISHED-TTL:PT1H
BEGIN:VTIMEZONE
TZID:Europe/Oslo
BEGIN:DAYLIGHT
TZOFFSETFROM:+0100
TZOFFSETTO:+0200
TZNAME:CEST
DTSTART:20240331T010000
END:DAYLIGHT
BEGIN:STANDARD
TZOFFSETFROM:+0200
TZOFFSETTO:+0100
TZNAME:CET
DTSTART:20241027T010000
END:STANDARD
BEGIN:DAYLIGHT
TZOFFSETFROM:+0100
TZOFFSETTO:+0200
TZNAME:CEST
DTSTART:20250330T010000
END:DAYLIGHT
BEGIN:STANDARD
TZOFFSETFROM:+0200
TZOFFSETTO:+0100
TZNAME:CET
DTSTART:20251026T010000
END:STANDARD
BEGIN:DAYLIGHT
TZOFFSETFROM:+0100
TZOFFSETTO:+0200
TZNAME:CEST
DTSTART:20260329T010000
END:DAYLIGHT
BEGIN:STANDARD
TZOFFSETFROM:+0200
TZOFFSETTO:+0100
TZNAME:CET
DTSTART:20261025T010000
END:STANDARD
END:VTIMEZONE
BEGIN:VEVENT
DTSTART;TZID=Europe/Oslo:20250901T120000
DTEND;TZID=Europe/Oslo:20250904T100000
DTSTAMP:20260421T020501
CREATED:20240730T131404Z
LAST-MODIFIED:20250814T091517Z
UID:23418436-1756728000-1756980000@storefjell.no
SUMMARY:Senioraktivitet med Pensjonistforbundet Vestfold
DESCRIPTION:Pensjonistforbundet Vestfold har gleden av å invitere alle pensjonister i Vestfold til Senioraktivitet på Storefjell.\nMålet med samlingen er at seniorer kan møtes til sosialt samvær\, fysisk aktivitet\, foredrag\, allsang og gode måltider.\nI løpet av dagene vil det være et spekter  av ulike aktiviteter du kan benytte deg av; petanque\, brettspill\, pilkast\, hesteskokasting\,\nseniordans\, yoga\, quiz og natursti for å nevne noen eksempler. \nDet blir en god blanding av aktiviteter\, sosialt samvær og foredrag.\nHver deltager velger hvilke aktiviteter man ønsker å være med på underveis. \nAnkomst Storefjell mandag 01.09 ca. kl.13.00 og starter med lunsj.\nRommene vil være klare fra ca kl.15.00\nAvslutning etter frokost torsdag 04.09. \nProgram Storefjell 2025 Pensjonistforbundet Vestfold \nPriser:\nkr. 3765\,- pr. person i dobbeltrom\nkr. 4665\,- pr person i enkeltrom\n– for hele oppholdet inkludert alle måltider\n-beløpet betales direkte til hotellet under oppholdet\n– i tillegg kommer en deltakeravgift på 350\,- som betales til hotellet sammen med hotelloppholdet. \nVed påmelding må følgende oppgis:\n– Navn\n– Forening (om du er medlem\, arrangementet er åpent for alle pensjonister)\n– Telefonnummer\n– E-post(hvis du ha\n– Type rom du ønsker (enkelt/dobbelt/HC vennlig)\n– Matallergier\n– Busstopp du vil benytte \nDet er viktig at du gir beskjed til hotellet ved bestilling om du trenger et handikapvennlig rom eller rom nær heis.\nDet er heis til alle etasjer. \nTransport:\nDet tilbys gratis busstransport fra oppsatte stoppesteder (se program/invitasjon)\nPåmelding til buss gjøres til hotellet sammen med påmelding til oppholdet.\nBussen stopper kun på de oppgitte stedene. \n\n\n\nBuss 1\n\n\n\n08:15\nTønsberg\n\n\n10:15\nKrøderen Kro\n\n\n11:00\nPause\n\n\n13:00\nStorefjell\n\n\n\n\n\n\nBuss 2\n\n\n\n08:15\nHorten\n\n\n08:45\nHolmestrand\n\n\n10:25\nKrøderen Kro\n\n\n11:10\nPause\n\n\n13:10\nStorefjell\n\n\n\n\n\n\nBuss 3\n\n\n\n08:15\nLarvik\n\n\n09:05\nSande\n\n\n10:35\nKrøderen Kro\n\n\n11:20\nPause\n\n\n13:20\nStorefjell\n\n\n\n\n\n\nBuss 4\n\n\n\n08:15\nSandefjord\n\n\n08:50\nKopstadkrysset\n\n\n10:20\nKrøderen Kro\n\n\n11:05\nPause\n\n\n13:05\nStorefjell\n\n\n\n  \n\n\n\nBuss 5\nSettes opp fra stoppested med flest påmeldte ved behov\n\n\n\nVed ankomst med tog til Gol stasjon kan Storefjell Resort hotell hente etter avtale\,\nmå bestilles senest kvelden før ankomst\, kr 300\,- pr person tur/retur Gol stasjon-Storefjell. \nPåmelding /bestilling av hotelrlrom gjøres direkte til hotellet; – sendes helst via e-post til:\nstorefjell@storefjell.no\n(eller på telefon: 32 07 8000\, åpningstidene på Storefjell booking er mandag-fredag 08:30-16:00.)\nDet er plass til 250 deltakere\, vi anbefaler å være tidlig ute med påmeldingen. \nPåmelding innen 1. august 2025. Etter 1. august er påmeldingen bindende.\n(Ved avbestilling på grunn av sykdom er det ikke avbestillingsgebyr\, men det kan være nødvendig med legeattest) \n\n\n\n\n\nSpørsmål kan rettes til\nJeanett Dorthea Apeland på telefon 904 29 907 eller fylkesleder Lars Erik(Lasse) Lilleødegård på telefon: 905 07 416
URL:https://storefjell.no/arrangement/senioraktivitetsuke-pensjonistforbundet-vestfold/
LOCATION:Storefjell Resort\, Einarsetvegen 401\, Gol\, 3550\, Norge
ATTACH;FMTTYPE=image/jpeg:https://storefjell.no/wp-content/uploads/2024/07/4B2A7080.jpg
END:VEVENT
END:VCALENDAR